BEGIN:VCALENDAR
VERSION:2.0
PRODID:-//jEvents 2.0 for Joomla//EN
CALSCALE:GREGORIAN
METHOD:PUBLISH
BEGIN:VEVENT
UID:68f3880ae9a6a44a314f359dce51a922
CATEGORIES:Activités
CREATED:20230626T222305
SUMMARY:Culture de l’aubergine africaine, du piment fort et des amarantes : Informations nécessaires pour débuter
DESCRIPTION:* This Webinar is only available in French. *\nLe Conseil économique et coo
 pératif de la Saskatchewan (CÉCS) organise un webinaire intitulé :\nCulture
  de l’aubergine africaine, du piment fort et des amarantes :\nInformations 
 nécessaires pour débuterMardi, 18 juillet 2023 (dès 14h) via Zoom!Organisat
 eur du webinaire : CÉCS\nPrésentateur : Jean Pierre Bayalla - fermier expér
 imenté – est président de la Ferme Tropicale. Une ferme spécialisée dans la
  production de légumes tropicaux biologiques en Outaouais (Québec). La ferm
 e tropicale est aussi un centre de recherche, de partage, de formation et d
 ’échange pour l’intégration des immigrants à l’entrepreneuriat agricole au 
 Québec.\nObjectif\nAprès un premier atelier pour mieux comprendre les enjeu
 x entourant un projet de développement des fermes tropicales en Saskatchewa
 n, le CÉCS revient pour cette fois-ci donner plus de détails sur les outils
  de base nécessaires pour se lancer dans la culture des produits tropicaux 
 les plus populaires que sont l’aubergine africaine, le piment fort et les a
 marantes. Des questions telles que le prix des semences, l’endroit où on pe
 ut se les procurer, à quelle période de l’année démarre-t-on le processus s
 ont, entre informations importantes, parmi les questions qui seront traitée
 s.\n
X-ALT-DESC;FMTTYPE=text/html:<fieldset id="rsform_54_page_0" class="formContainer formHorizontal"><div c
 lass="formRow"><div class="formSpan12"><div class="rsform-block rsform-bloc
 k-culture-de-laubergine-africaine-du-piment-fort-et-des-amarantes-informati
 ons-necessaires-pour-debuter"><p><strong><em>* This Webinar is only availab
 le in French. *</em></strong></p><p>Le <em>Conseil économique et coopératif
  de la Saskatchewan</em> (CÉCS) organise un webinaire intitulé :</p><h3>Cul
 ture de l’aubergine africaine, du piment fort et des amarantes :<br /><em>I
 nformations nécessaires pour débuter</em></h3><h3><strong>Mardi, 18 juillet
  2023 (dès 14h) via Zoom!</strong></h3><hr /><p><b>Organisateur du webinair
 e : </b>CÉCS</p><p><b>Présentateur :</b> Jean Pierre Bayalla - fermier expé
 rimenté – est président de la Ferme Tropicale. Une ferme spécialisée dans l
 a production de légumes tropicaux biologiques en Outaouais (Québec). La fer
 me tropicale est aussi un centre de recherche, de partage, de formation et 
 d’échange pour l’intégration des immigrants à l’entrepreneuriat agricole au
  Québec.</p><p><b>Objectif</b></p><p>Après un premier atelier pour mieux co
 mprendre les enjeux entourant un projet de développement des fermes tropica
 les en Saskatchewan, le CÉCS revient pour cette fois-ci donner plus de déta
 ils sur les outils de base nécessaires pour se lancer dans la culture des p
 roduits tropicaux les plus populaires que sont l’aubergine africaine, le pi
 ment fort et les amarantes. Des questions telles que le prix des semences, 
 l’endroit où on peut se les procurer, à quelle période de l’année démarre-t
 -on le processus sont, entre informations importantes, parmi les questions 
 qui seront traitées.</p></div></div></div></fieldset>
DTSTAMP:20260420T001440
DTSTART:20230718T140000
SEQUENCE:0
TRANSP:OPAQUE
END:VEVENT
END:VCALENDAR