BEGIN:VCALENDAR
VERSION:2.0
PRODID:-//jEvents 2.0 for Joomla//EN
CALSCALE:GREGORIAN
METHOD:PUBLISH
BEGIN:VEVENT
UID:7b89e7aeaa58d7c3f6faa7132aeace01
CATEGORIES:Activités
CREATED:20230622T172208
SUMMARY:Webinaire : TOURISME EN SASKATCHEWAN
DESCRIPTION:<div class="xdj266r x11i5rnm xat24cr x1mh8g0r x1vvkbs x126k92a"><div dir="a
 uto">Le <span class="xt0psk2">Conseil économique et coopératif de la Saskat
 chewan - CÉCS</span>, en collaboration avec <span class="xt0psk2">Services 
 d'accueil et d'inclusion francophone-SK</span>, vous offre un atelier intit
 ulé « TOURISME EN SASKATCHEWAN ».</div><div dir="auto"> </div></div><div cl
 ass="x11i5rnm xat24cr x1mh8g0r x1vvkbs xtlvy1s x126k92a"><div dir="auto">Ce
 tte séance, organisée pour vous aider à découvrir les lieux d’attraction de
 s villes de la Saskatchewan, ainsi que les événements prévus pour cette pér
 iode estivale aura lieu en ligne :</div></div><div class="x11i5rnm xat24cr 
 x1mh8g0r x1vvkbs xtlvy1s x126k92a"><div dir="auto">Le mardi, 27 juin 2023 à
  18h30.</div><div dir="auto"> </div></div><div class="x11i5rnm xat24cr x1mh
 8g0r x1vvkbs xtlvy1s x126k92a"><div dir="auto">Pour plus d’information et p
 our s'inscrire, n’hésitez pas à contacter au 306-992-5426 ou 306-992-0724.<
 /div><div dir="auto"> </div></div><div class="x11i5rnm xat24cr x1mh8g0r x1v
 vkbs xtlvy1s x126k92a"><div dir="auto">Ou par courriel, auprès de Saoussen 
 : <joomla-hidden-mail  is-link="1" is-email="1" first="cy5kcmlyYQ==" last="
 c2FpZi1zay5jYQ==" text="cy5kcmlyYUBzYWlmLXNrLmNh" base="" >Cette adresse e-
 mail est protégée contre les robots spammeurs. Vous devez activer le JavaSc
 ript pour la visualiser.</joomla-hidden-mail> et Gérard : <joomla-hidden-ma
 il  is-link="1" is-email="1" first="Zy5tYWRvZG8=" last="c2FpZi1zay5jYQ==" t
 ext="Zy5tYWRvZG9Ac2FpZi1zay5jYQ==" base="" >Cette adresse e-mail est protég
 ée contre les robots spammeurs. Vous devez activer le JavaScript pour la vi
 sualiser.</joomla-hidden-mail></div></div>
DTSTAMP:20260420T001629
DTSTART:20230627T183000
SEQUENCE:0
TRANSP:OPAQUE
END:VEVENT
END:VCALENDAR