BEGIN:VCALENDAR
VERSION:2.0
PRODID:-//jEvents 2.0 for Joomla//EN
CALSCALE:GREGORIAN
METHOD:PUBLISH
BEGIN:VEVENT
UID:216f2b679153fb8398c3f4576463f2dd
CATEGORIES:Activités
CREATED:20230526T170318
SUMMARY:76e AGA du CÉCS
DESCRIPTION:Date : samedi, 24 juin 2023\nHeure : 15h00\nLieu : Moose Jaw Temple Garden 
 Hotel &amp; Spa\nInscriptions : Cette adresse e-mail est protégée contre le
 s robots spammeurs. Vous devez activer le JavaScript pour la visualiser.\n
X-ALT-DESC;FMTTYPE=text/html:<p><strong>Date :</strong> samedi, 24 juin 2023</p><p><strong>Heure : </str
 ong>15h00</p><p><strong>Lieu : </strong>Moose Jaw Temple Garden Hotel &amp;
  Spa</p><p><strong>Inscriptions : </strong><joomla-hidden-mail  is-link="1"
  is-email="1" first="UGF1bC5MZW9zdA==" last="Y2Vjcy1zay5jYQ==" text="UGF1bC
 5MZW9zdEBjZWNzLXNrLmNh" base="" >Cette adresse e-mail est protégée contre l
 es robots spammeurs. Vous devez activer le JavaScript pour la visualiser.</
 joomla-hidden-mail></p>
DTSTAMP:20260420T001554
DTSTART:20230624T150000
DTEND:20230624T170000
SEQUENCE:0
TRANSP:OPAQUE
END:VEVENT
END:VCALENDAR