BEGIN:VCALENDAR
VERSION:2.0
PRODID:-//jEvents 2.0 for Joomla//EN
CALSCALE:GREGORIAN
METHOD:PUBLISH
BEGIN:VEVENT
UID:e547757fecb2459bd9ec35b9a91b3320
CATEGORIES:Activités
CREATED:20230517T162819
SUMMARY:WEBINAIRE : DÉMARRAGE D'UNE GARDERIE EN MILIEU FAMILIAL EN SASKATCHEWAN
DESCRIPTION:<div class="xdj266r x11i5rnm xat24cr x1mh8g0r x1vvkbs x126k92a"><div dir="a
 uto">Le <span class="xt0psk2"><em>Conseil économique et coopératif de la Sa
 skatchewan</em> - CÉCS</span> et l'<em><span class="xt0psk2">Association de
 s parents fransaskois</span></em><span class="xt0psk2"> - APF</span> présen
 tent un webinaire gratuit sur les garderies!</div></div><div class="x11i5rn
 m xat24cr x1mh8g0r x1vvkbs xtlvy1s x126k92a"><h4 dir="auto">« DÉMARRAGE D'U
 NE GARDERIE EN MILIEU FAMILIAL EN SASKATCHEWAN »</h4></div><div class="x11i
 5rnm xat24cr x1mh8g0r x1vvkbs xtlvy1s x126k92a"><div dir="auto"><strong>Dat
 e :</strong> Mardi, <strong>30 mai</strong> 2023 à <strong>18h00</strong></
 div></div><div class="x11i5rnm xat24cr x1mh8g0r x1vvkbs xtlvy1s x126k92a"><
 div dir="auto"> </div><div dir="auto"><strong>Pour s'inscrire :</strong></d
 iv></div><div class="x11i5rnm xat24cr x1mh8g0r x1vvkbs xtlvy1s x126k92a"><d
 iv dir="auto"><strong><a id="LPlnk560825" href="https://us02web.zoom.us/mee
 ting/register/tZMldOGoqjMuH9c5xEY-mHlvcum8UtV6Axxf" target="_blank" rel="no
 opener noreferrer" data-auth="NotApplicable" data-linkindex="0">https://us0
 2web.zoom.us/meeting/register/tZMldOGoqjMuH9c5xEY-mHlvcum8UtV6Axxf</a></str
 ong></div></div><div class="x11i5rnm xat24cr x1mh8g0r x1vvkbs xtlvy1s x126k
 92a"><div dir="auto"> </div></div>
DTSTAMP:20260420T001630
DTSTART:20230530T180000
DTEND:20230530T200000
SEQUENCE:0
TRANSP:OPAQUE
END:VEVENT
END:VCALENDAR