BEGIN:VCALENDAR
VERSION:2.0
PRODID:-//jEvents 2.0 for Joomla//EN
CALSCALE:GREGORIAN
METHOD:PUBLISH
BEGIN:VEVENT
UID:5eec739372c4ad912bc0d2ce694c71d6
CATEGORIES:Activités
CREATED:20230516T203437
SUMMARY:JOB FAIR / FOIRE D'EMPLOI - SASKATOON
DESCRIPTION:Job Fair / Foire d'emploi\nHospitality: Hotels, Restaurants and Tourism / H
 ospitalité : Hôtels, restaurants et tourisme\nThursday, June 7 / Jeudi le 7
  juin\nHilton Garden Inn Saskatoon Downtown (90-22 St E)\nREGISTRATION / IN
 SCRIPTION\nhttps://cecs-sk.ca/saskatoon-7juin2023 (saskatoon-7juin2023)\n
X-ALT-DESC;FMTTYPE=text/html:<p>Job Fair / Foire d'emploi</p><p><em><strong>Hospitality: Hotels, Restaur
 ants and Tourism / Hospitalité : Hôtels, restaurants et tourisme</strong></
 em></p><p>Thursday, June 7 / Jeudi le 7 juin<br />Hilton Garden Inn Saskato
 on Downtown (90-22 St E)</p><p>REGISTRATION / INSCRIPTION</p><p><strong><a 
 id="LPlnkOWALinkPreview" href="https://cecs-sk.ca/saskatoon-7juin2023" targ
 et="_blank" rel="noopener noreferrer" data-auth="NotApplicable" data-linkin
 dex="0">https://cecs-sk.ca/saskatoon-7juin2023</a></strong></p>
DTSTAMP:20260420T001506
DTSTART:20230607T130000
DTEND:20230607T160000
SEQUENCE:0
TRANSP:OPAQUE
END:VEVENT
END:VCALENDAR