BEGIN:VCALENDAR
VERSION:2.0
PRODID:-//jEvents 2.0 for Joomla//EN
CALSCALE:GREGORIAN
METHOD:PUBLISH
BEGIN:VEVENT
UID:33cee64a1d8eebcb708fedceddcde2f4
CATEGORIES:Activités
CREATED:20230516T202023
SUMMARY:JOB FAIR / FOIRE D'EMPLOI - REGINA
DESCRIPTION:<div class="x11i5rnm xat24cr x1mh8g0r x1vvkbs xtlvy1s x126k92a"><div dir="a
 uto">The <em><span class="xt0psk2">CÉCS</span></em>, along with <em><span c
 lass="xt0psk2">CFS Regina</span></em>, <em><span class="xt0psk2">Internatio
 nal Women of Saskatoon</span></em> and <em><span class="xt0psk2">Regina Imm
 igrant Women's Centre</span></em> are hosting a job fair in Regina!</div><d
 iv dir="auto"> </div></div><div class="x11i5rnm xat24cr x1mh8g0r x1vvkbs xt
 lvy1s x126k92a"><div dir="auto"><strong>June 9th, 2023 (10am to 3pm)</stron
 g></div><div dir="auto"><strong><span class="xt0psk2">Royal Hotel Regina</s
 pan></strong> (4025 Albert Street)</div><div dir="auto"> </div></div><div c
 lass="x11i5rnm xat24cr x1mh8g0r x1vvkbs xtlvy1s x126k92a"><div dir="auto"><
 strong>REGISTRATION: </strong><a class="x1i10hfl xjbqb8w x6umtig x1b1mbwd x
 aqea5y xav7gou x9f619 x1ypdohk xt0psk2 xe8uvvx xdj266r x11i5rnm xat24cr x1m
 h8g0r xexx8yu x4uap5 x18d9i69 xkhd6sd x16tdsg8 x1hl2dhg xggy1nq x1a2a7pz xt
 0b8zv x1fey0fg" tabindex="0" role="link" href="en/regina-job-fair?fbclid=Iw
 AR0IdLMVb2GHfBNrLSpxiiZdlEzFc2iqlyENOgwhMIgNmJxBtgITpM7drhw" target="_blank
 " rel="nofollow noopener">https://cecs-sk.ca/en/regina-job-fair</a> (<stron
 g>by June 6th!</strong>)</div></div><div class="x11i5rnm xat24cr x1mh8g0r x
 1vvkbs xtlvy1s x126k92a"><div dir="auto"><strong>INFO:</strong></div><div d
 ir="auto"><strong><joomla-hidden-mail  is-link="1" is-email="1" first="UGFw
 aS5Uc2hpc3dha2E=" last="Y2Vjcy1zay5jYQ==" text="UGFwaS5Uc2hpc3dha2FAY2Vjcy1
 zay5jYQ==" base="" >Cette adresse e-mail est protégée contre les robots spa
 mmeurs. Vous devez activer le JavaScript pour la visualiser.</joomla-hidden
 -mail></strong> / 306.566.6000, Ext.110</div><div dir="auto">OR</div><div d
 ir="auto"><strong><joomla-hidden-mail  is-link="1" is-email="1" first="UnVr
 a3k=" last="Y2ZzcmVnaW5hLmNh" text="UnVra3lAY2ZzcmVnaW5hLmNh" base="" >Cett
 e adresse e-mail est protégée contre les robots spammeurs. Vous devez activ
 er le JavaScript pour la visualiser.</joomla-hidden-mail></strong> / 306.53
 5.0521</div><div dir="auto"> </div></div><div class="x11i5rnm xat24cr x1mh8
 g0r x1vvkbs xtlvy1s x126k92a"><hr /><div dir="auto"> </div><div dir="auto">
 Le <em><span class="xt0psk2">CÉCS</span></em>, <em><span class="xt0psk2">CF
 S Regina</span></em>, <em><span class="xt0psk2">International Women of Sask
 atoon</span></em> et <em><span class="xt0psk2">Regina Immigrant Women's Cen
 tre</span></em> présentent ensemble une foire de l'emploi à Regina!</div><d
 iv dir="auto"> </div></div><div class="x11i5rnm xat24cr x1mh8g0r x1vvkbs xt
 lvy1s x126k92a"><div dir="auto"><strong>9 juin 2023 (10h à 15h)</strong></d
 iv><div dir="auto"><strong><span class="xt0psk2">Royal Hotel Regina</span><
 /strong> (4025 rue Albert).</div><div dir="auto"> </div></div><div class="x
 11i5rnm xat24cr x1mh8g0r x1vvkbs xtlvy1s x126k92a"><div dir="auto"><strong>
 INSCRIPTIONS :</strong> <a class="x1i10hfl xjbqb8w x6umtig x1b1mbwd xaqea5y
  xav7gou x9f619 x1ypdohk xt0psk2 xe8uvvx xdj266r x11i5rnm xat24cr x1mh8g0r 
 xexx8yu x4uap5 x18d9i69 xkhd6sd x16tdsg8 x1hl2dhg xggy1nq x1a2a7pz xt0b8zv 
 x1fey0fg" tabindex="0" role="link" href="fr/foire-emploi-regina?fbclid=IwAR
 04Ks2QI2ywCRGeQ8nQmGig9jtZ276cnXeSQkDFhSTA8V0t3zjNb7PJBFg" target="_blank" 
 rel="nofollow noopener">https://cecs-sk.ca/fr/foire-emploi-regina</a> (par 
 le 6 juin!)</div></div><div class="x11i5rnm xat24cr x1mh8g0r x1vvkbs xtlvy1
 s x126k92a"><div dir="auto"><strong>INFO :</strong></div><div dir="auto"><s
 trong><joomla-hidden-mail  is-link="1" is-email="1" first="UGFwaS5Uc2hpc3dh
 a2E=" last="Y2Vjcy1zay5jYQ==" text="UGFwaS5Uc2hpc3dha2FAY2Vjcy1zay5jYQ==" b
 ase="" >Cette adresse e-mail est protégée contre les robots spammeurs. Vous
  devez activer le JavaScript pour la visualiser.</joomla-hidden-mail></stro
 ng> / 306.566.6000, poste 110</div><div dir="auto">OU</div><div dir="auto">
 <strong><joomla-hidden-mail  is-link="1" is-email="1" first="UnVra3k=" last
 ="Y2ZzcmVnaW5hLmNh" text="UnVra3lAY2ZzcmVnaW5hLmNh" base="" >Cette adresse 
 e-mail est protégée contre les robots spammeurs. Vous devez activer le Java
 Script pour la visualiser.</joomla-hidden-mail></strong> / 306.535.0521</di
 v></div>
X-ALT-DESC;FMTTYPE=text/html:<div class="x11i5rnm xat24cr x1mh8g0r x1vvkbs xtlvy1s x126k92a"><div dir="a
 uto">The <em><span class="xt0psk2">CÉCS</span></em>, along with <em><span c
 lass="xt0psk2">CFS Regina</span></em>, <em><span class="xt0psk2">Internatio
 nal Women of Saskatoon</span></em> and <em><span class="xt0psk2">Regina Imm
 igrant Women's Centre</span></em> are hosting a job fair in Regina!</div><d
 iv dir="auto"> </div></div><div class="x11i5rnm xat24cr x1mh8g0r x1vvkbs xt
 lvy1s x126k92a"><div dir="auto"><strong>June 9th, 2023 (10am to 3pm)</stron
 g></div><div dir="auto"><strong><span class="xt0psk2">Royal Hotel Regina</s
 pan></strong> (4025 Albert Street)</div><div dir="auto"> </div></div><div c
 lass="x11i5rnm xat24cr x1mh8g0r x1vvkbs xtlvy1s x126k92a"><div dir="auto"><
 strong>REGISTRATION: </strong><a class="x1i10hfl xjbqb8w x6umtig x1b1mbwd x
 aqea5y xav7gou x9f619 x1ypdohk xt0psk2 xe8uvvx xdj266r x11i5rnm xat24cr x1m
 h8g0r xexx8yu x4uap5 x18d9i69 xkhd6sd x16tdsg8 x1hl2dhg xggy1nq x1a2a7pz xt
 0b8zv x1fey0fg" tabindex="0" role="link" href="https://cecs-sk.ca/en/regina
 -job-fair?fbclid=IwAR0IdLMVb2GHfBNrLSpxiiZdlEzFc2iqlyENOgwhMIgNmJxBtgITpM7d
 rhw" target="_blank" rel="nofollow noopener">https://cecs-sk.ca/en/regina-j
 ob-fair</a> (<strong>by June 6th!</strong>)</div></div><div class="x11i5rnm
  xat24cr x1mh8g0r x1vvkbs xtlvy1s x126k92a"><div dir="auto"><strong>INFO:</
 strong></div><div dir="auto"><strong><joomla-hidden-mail  is-link="1" is-em
 ail="1" first="UGFwaS5Uc2hpc3dha2E=" last="Y2Vjcy1zay5jYQ==" text="UGFwaS5U
 c2hpc3dha2FAY2Vjcy1zay5jYQ==" base="" >Cette adresse e-mail est protégée co
 ntre les robots spammeurs. Vous devez activer le JavaScript pour la visuali
 ser.</joomla-hidden-mail></strong> / 306.566.6000, Ext.110</div><div dir="a
 uto">OR</div><div dir="auto"><strong><joomla-hidden-mail  is-link="1" is-em
 ail="1" first="UnVra3k=" last="Y2ZzcmVnaW5hLmNh" text="UnVra3lAY2ZzcmVnaW5h
 LmNh" base="" >Cette adresse e-mail est protégée contre les robots spammeur
 s. Vous devez activer le JavaScript pour la visualiser.</joomla-hidden-mail
 ></strong> / 306.535.0521</div><div dir="auto"> </div></div><div class="x11
 i5rnm xat24cr x1mh8g0r x1vvkbs xtlvy1s x126k92a"><hr /><div dir="auto"> </d
 iv><div dir="auto">Le <em><span class="xt0psk2">CÉCS</span></em>, <em><span
  class="xt0psk2">CFS Regina</span></em>, <em><span class="xt0psk2">Internat
 ional Women of Saskatoon</span></em> et <em><span class="xt0psk2">Regina Im
 migrant Women's Centre</span></em> présentent ensemble une foire de l'emplo
 i à Regina!</div><div dir="auto"> </div></div><div class="x11i5rnm xat24cr 
 x1mh8g0r x1vvkbs xtlvy1s x126k92a"><div dir="auto"><strong>9 juin 2023 (10h
  à 15h)</strong></div><div dir="auto"><strong><span class="xt0psk2">Royal H
 otel Regina</span></strong> (4025 rue Albert).</div><div dir="auto"> </div>
 </div><div class="x11i5rnm xat24cr x1mh8g0r x1vvkbs xtlvy1s x126k92a"><div 
 dir="auto"><strong>INSCRIPTIONS :</strong> <a class="x1i10hfl xjbqb8w x6umt
 ig x1b1mbwd xaqea5y xav7gou x9f619 x1ypdohk xt0psk2 xe8uvvx xdj266r x11i5rn
 m xat24cr x1mh8g0r xexx8yu x4uap5 x18d9i69 xkhd6sd x16tdsg8 x1hl2dhg xggy1n
 q x1a2a7pz xt0b8zv x1fey0fg" tabindex="0" role="link" href="https://cecs-sk
 .ca/fr/foire-emploi-regina?fbclid=IwAR04Ks2QI2ywCRGeQ8nQmGig9jtZ276cnXeSQkD
 FhSTA8V0t3zjNb7PJBFg" target="_blank" rel="nofollow noopener">https://cecs-
 sk.ca/fr/foire-emploi-regina</a> (par le 6 juin!)</div></div><div class="x1
 1i5rnm xat24cr x1mh8g0r x1vvkbs xtlvy1s x126k92a"><div dir="auto"><strong>I
 NFO :</strong></div><div dir="auto"><strong><joomla-hidden-mail  is-link="1
 " is-email="1" first="UGFwaS5Uc2hpc3dha2E=" last="Y2Vjcy1zay5jYQ==" text="U
 GFwaS5Uc2hpc3dha2FAY2Vjcy1zay5jYQ==" base="" >Cette adresse e-mail est prot
 égée contre les robots spammeurs. Vous devez activer le JavaScript pour la 
 visualiser.</joomla-hidden-mail></strong> / 306.566.6000, poste 110</div><d
 iv dir="auto">OU</div><div dir="auto"><strong><joomla-hidden-mail  is-link=
 "1" is-email="1" first="UnVra3k=" last="Y2ZzcmVnaW5hLmNh" text="UnVra3lAY2Z
 zcmVnaW5hLmNh" base="" >Cette adresse e-mail est protégée contre les robots
  spammeurs. Vous devez activer le JavaScript pour la visualiser.</joomla-hi
 dden-mail></strong> / 306.535.0521</div></div>
DTSTAMP:20260420T001744
DTSTART:20230609T100000
DTEND:20230609T150000
SEQUENCE:0
TRANSP:OPAQUE
END:VEVENT
END:VCALENDAR