BEGIN:VCALENDAR
VERSION:2.0
PRODID:-//jEvents 2.0 for Joomla//EN
CALSCALE:GREGORIAN
METHOD:PUBLISH
BEGIN:VEVENT
UID:5de6725ad8cb28b2a74295017477dc3d
CATEGORIES:Activités
CREATED:20230516T201008
SUMMARY:HOW TO WRITE A RESUMÉ THAT STANDS OUT OF COMPETITION
DESCRIPTION:<div class="xdj266r x11i5rnm xat24cr x1mh8g0r x1vvkbs x126k92a"><div dir="a
 uto">The <span class="xt0psk2">CÉCS</span> is excited to offer you the foll
 owing virtual workshop on Resumé and Cover Letter writing:</div><div dir="a
 uto"> </div></div><div class="x11i5rnm xat24cr x1mh8g0r x1vvkbs xtlvy1s x12
 6k92a"><div dir="auto"><em><strong>HOW TO WRITE A RESUMÉ THAT STANDS OUT OF
  COMPETITION</strong></em></div><div dir="auto"> </div></div><div class="x1
 1i5rnm xat24cr x1mh8g0r x1vvkbs xtlvy1s x126k92a"><div dir="auto"><strong>D
 ATE:</strong> May 27, 2023</div></div><div class="x11i5rnm xat24cr x1mh8g0r
  x1vvkbs xtlvy1s x126k92a"><div dir="auto"><strong>TIME:</strong> 9:30 am t
 o 11:30 am</div></div><div class="x11i5rnm xat24cr x1mh8g0r x1vvkbs xtlvy1s
  x126k92a"><div dir="auto"><strong>LOCATION (Via ZOOM!):</strong> The link 
 will be sent to your email address upon reception of your registration.</di
 v></div><div class="x11i5rnm xat24cr x1mh8g0r x1vvkbs xtlvy1s x126k92a"><di
 v dir="auto"> </div><div dir="auto"><strong>REGISTRATION:</strong></div><di
 v dir="auto"><a class="x1i10hfl xjbqb8w x6umtig x1b1mbwd xaqea5y xav7gou x9
 f619 x1ypdohk xt0psk2 xe8uvvx xdj266r x11i5rnm xat24cr x1mh8g0r xexx8yu x4u
 ap5 x18d9i69 xkhd6sd x16tdsg8 x1hl2dhg xggy1nq x1a2a7pz xt0b8zv x1fey0fg" t
 abindex="0" role="link" href="en/employmentworkshop-may272023?fbclid=IwAR2t
 MoM3hx1azY4T8wDOxC4LFxBCU0QCHUfDj2dbLuQiLSoTpnQgpeqAq9g" target="_blank" re
 l="nofollow noopener">https://cecs-sk.ca/en/employmentworkshop-may272023</a
 ></div></div><div class="x11i5rnm xat24cr x1mh8g0r x1vvkbs xtlvy1s x126k92a
 "><div dir="auto">The purpose of this workshop is to help participants to:<
 /div></div><div class="x11i5rnm xat24cr x1mh8g0r x1vvkbs xtlvy1s x126k92a">
 <ul><li dir="auto">Create an effective resume or improve the one you alread
 y have.</li><li dir="auto">Transform your resume into a powerful tool that 
 will get you interviews.</li><li dir="auto">Discover your own unique featur
 es.</li><li dir="auto">Uncover keywords and important skills.</li><li dir="
 auto">Create personal-brand-focused to stand out competition.</li><li dir="
 auto">Develop a cover letter and put the finishing touches on your resumé.<
 /li></ul></div><div class="x11i5rnm xat24cr x1mh8g0r x1vvkbs xtlvy1s x126k9
 2a"><div dir="auto">For more information, please contact:</div></div><div c
 lass="x11i5rnm xat24cr x1mh8g0r x1vvkbs xtlvy1s x126k92a"><div dir="auto">F
 élicité at 306.244.1933 or <joomla-hidden-mail  is-link="1" is-email="1" fi
 rst="ZmVsaWNpdGUubmlib2dvcmE=" last="Y2Vjcy1zay5jYQ==" text="PHN0cm9uZz5mZW
 xpY2l0ZS5uaWJvZ29yYUBjZWNzLXNrLmNhPC9zdHJvbmc+" base="" >Cette adresse e-ma
 il est protégée contre les robots spammeurs. Vous devez activer le JavaScri
 pt pour la visualiser.</joomla-hidden-mail></div></div>
X-ALT-DESC;FMTTYPE=text/html:<div class="xdj266r x11i5rnm xat24cr x1mh8g0r x1vvkbs x126k92a"><div dir="a
 uto">The <span class="xt0psk2">CÉCS</span> is excited to offer you the foll
 owing virtual workshop on Resumé and Cover Letter writing:</div><div dir="a
 uto"> </div></div><div class="x11i5rnm xat24cr x1mh8g0r x1vvkbs xtlvy1s x12
 6k92a"><div dir="auto"><em><strong>HOW TO WRITE A RESUMÉ THAT STANDS OUT OF
  COMPETITION</strong></em></div><div dir="auto"> </div></div><div class="x1
 1i5rnm xat24cr x1mh8g0r x1vvkbs xtlvy1s x126k92a"><div dir="auto"><strong>D
 ATE:</strong> May 27, 2023</div></div><div class="x11i5rnm xat24cr x1mh8g0r
  x1vvkbs xtlvy1s x126k92a"><div dir="auto"><strong>TIME:</strong> 9:30 am t
 o 11:30 am</div></div><div class="x11i5rnm xat24cr x1mh8g0r x1vvkbs xtlvy1s
  x126k92a"><div dir="auto"><strong>LOCATION (Via ZOOM!):</strong> The link 
 will be sent to your email address upon reception of your registration.</di
 v></div><div class="x11i5rnm xat24cr x1mh8g0r x1vvkbs xtlvy1s x126k92a"><di
 v dir="auto"> </div><div dir="auto"><strong>REGISTRATION:</strong></div><di
 v dir="auto"><a class="x1i10hfl xjbqb8w x6umtig x1b1mbwd xaqea5y xav7gou x9
 f619 x1ypdohk xt0psk2 xe8uvvx xdj266r x11i5rnm xat24cr x1mh8g0r xexx8yu x4u
 ap5 x18d9i69 xkhd6sd x16tdsg8 x1hl2dhg xggy1nq x1a2a7pz xt0b8zv x1fey0fg" t
 abindex="0" role="link" href="https://cecs-sk.ca/en/employmentworkshop-may2
 72023?fbclid=IwAR2tMoM3hx1azY4T8wDOxC4LFxBCU0QCHUfDj2dbLuQiLSoTpnQgpeqAq9g"
  target="_blank" rel="nofollow noopener">https://cecs-sk.ca/en/employmentwo
 rkshop-may272023</a></div></div><div class="x11i5rnm xat24cr x1mh8g0r x1vvk
 bs xtlvy1s x126k92a"><div dir="auto">The purpose of this workshop is to hel
 p participants to:</div></div><div class="x11i5rnm xat24cr x1mh8g0r x1vvkbs
  xtlvy1s x126k92a"><ul><li dir="auto">Create an effective resume or improve
  the one you already have.</li><li dir="auto">Transform your resume into a 
 powerful tool that will get you interviews.</li><li dir="auto">Discover you
 r own unique features.</li><li dir="auto">Uncover keywords and important sk
 ills.</li><li dir="auto">Create personal-brand-focused to stand out competi
 tion.</li><li dir="auto">Develop a cover letter and put the finishing touch
 es on your resumé.</li></ul></div><div class="x11i5rnm xat24cr x1mh8g0r x1v
 vkbs xtlvy1s x126k92a"><div dir="auto">For more information, please contact
 :</div></div><div class="x11i5rnm xat24cr x1mh8g0r x1vvkbs xtlvy1s x126k92a
 "><div dir="auto">Félicité at 306.244.1933 or <joomla-hidden-mail  is-link=
 "1" is-email="1" first="ZmVsaWNpdGUubmlib2dvcmE=" last="Y2Vjcy1zay5jYQ==" t
 ext="PHN0cm9uZz5mZWxpY2l0ZS5uaWJvZ29yYUBjZWNzLXNrLmNhPC9zdHJvbmc+" base="" 
 >Cette adresse e-mail est protégée contre les robots spammeurs. Vous devez 
 activer le JavaScript pour la visualiser.</joomla-hidden-mail></div></div>
DTSTAMP:20260420T001630
DTSTART:20230527T093000
DTEND:20230527T113000
SEQUENCE:0
TRANSP:OPAQUE
END:VEVENT
END:VCALENDAR