BEGIN:VCALENDAR
VERSION:2.0
PRODID:-//jEvents 2.0 for Joomla//EN
CALSCALE:GREGORIAN
METHOD:PUBLISH
BEGIN:VEVENT
UID:38b15f4bf7285b58e74d8d8b32495397
CATEGORIES:Activités
CREATED:20260408T140445
SUMMARY:Salon du VR
DESCRIPTION:<p>&nbsp;Jour 3</p><p>Nous sommes heureux d’annoncer notre participation au
  Salon du VR de Québec, qui se tiendra du 9 au 12 avril au Centre de foires
  d’ExpoCité.</p><p data-start="168" data-end="457">Venez nous rencontrer su
 r place et en apprendre davantage sur les sites touristiques et le plein ai
 r de la Saskatchewan, tout en découvrant les dernières nouveautés et tendan
 ces du monde du VR, au cœur de cet événement incontournable pour les passio
 nnés d’évasion.</p><p data-start="459" data-end="691">Profitez-en aussi pou
 r participer à notre concours : courez la chance de gagner l’un des 4 séjou
 rs de camping en Saskatchewan, incluant une carte cadeau de 150 $ valide po
 ur 4 jours dans un parc provincial !</p><p>&nbsp;</p>
DTSTAMP:20260423T221428
DTSTART;VALUE=DATE:20260411
DTEND;VALUE=DATE:20260412
SEQUENCE:0
TRANSP:OPAQUE
END:VEVENT
END:VCALENDAR