BEGIN:VCALENDAR
VERSION:2.0
PRODID:-//jEvents 2.0 for Joomla//EN
CALSCALE:GREGORIAN
METHOD:PUBLISH
BEGIN:VEVENT
UID:a7a7ebfdcd32e692efd78e466d0ad44c
CATEGORIES:Activités
CREATED:20260408T140513
SUMMARY:Salon du VR
DESCRIPTION: Jour 4\nNous sommes heureux d’annoncer notre participation au Salon du VR 
 de Québec, qui se tiendra du 9 au 12 avril au Centre de foires d’ExpoCité.\
 nVenez nous rencontrer sur place et en apprendre davantage sur les sites to
 uristiques et le plein air de la Saskatchewan, tout en découvrant les derni
 ères nouveautés et tendances du monde du VR, au cœur de cet événement incon
 tournable pour les passionnés d’évasion.\nProfitez-en aussi pour participer
  à notre concours : courez la chance de gagner l’un des 4 séjours de campin
 g en Saskatchewan, incluant une carte cadeau de 150 $ valide pour 4 jours d
 ans un parc provincial !\n \n
X-ALT-DESC;FMTTYPE=text/html:<p>&nbsp;Jour 4</p><p>Nous sommes heureux d’annoncer notre participation au
  Salon du VR de Québec, qui se tiendra du 9 au 12 avril au Centre de foires
  d’ExpoCité.</p><p data-start="168" data-end="457">Venez nous rencontrer su
 r place et en apprendre davantage sur les sites touristiques et le plein ai
 r de la Saskatchewan, tout en découvrant les dernières nouveautés et tendan
 ces du monde du VR, au cœur de cet événement incontournable pour les passio
 nnés d’évasion.</p><p data-start="459" data-end="691">Profitez-en aussi pou
 r participer à notre concours : courez la chance de gagner l’un des 4 séjou
 rs de camping en Saskatchewan, incluant une carte cadeau de 150 $ valide po
 ur 4 jours dans un parc provincial !</p><p>&nbsp;</p>
DTSTAMP:20260422T101444
DTSTART;VALUE=DATE:20260412
DTEND;VALUE=DATE:20260413
SEQUENCE:0
TRANSP:OPAQUE
END:VEVENT
END:VCALENDAR