BEGIN:VCALENDAR
VERSION:2.0
PRODID:-//jEvents 2.0 for Joomla//EN
CALSCALE:GREGORIAN
METHOD:PUBLISH
BEGIN:VEVENT
UID:153dc92e8ab1b193958b034442577396
CATEGORIES:Activités
CREATED:20260408T140155
SUMMARY:Salon du VR
LOCATION:Centre de foires d’ExpoCité
DESCRIPTION:Jour 1\nNous sommes heureux d’annoncer notre participation au Salon du VR d
 e Québec, qui se tiendra du 9 au 12 avril au Centre de foires d’ExpoCité.\n
 Venez nous rencontrer sur place et en apprendre davantage sur les sites tou
 ristiques et le plein air de la Saskatchewan, tout en découvrant les derniè
 res nouveautés et tendances du monde du VR, au cœur de cet événement incont
 ournable pour les passionnés d’évasion.\nProfitez-en aussi pour participer 
 à notre concours : courez la chance de gagner l’un des 4 séjours de camping
  en Saskatchewan, incluant une carte cadeau de 150 $ valide pour 4 jours da
 ns un parc provincial !\n \n
X-ALT-DESC;FMTTYPE=text/html:<p>Jour 1</p><p>Nous sommes heureux d’annoncer notre participation au Salon
  du VR de Québec, qui se tiendra du 9 au 12 avril au Centre de foires d’Exp
 oCité.</p><p data-start="168" data-end="457">Venez nous rencontrer sur plac
 e et en apprendre davantage sur les sites touristiques et le plein air de l
 a Saskatchewan, tout en découvrant les dernières nouveautés et tendances du
  monde du VR, au cœur de cet événement incontournable pour les passionnés d
 ’évasion.</p><p data-start="459" data-end="691">Profitez-en aussi pour part
 iciper à notre concours : courez la chance de gagner l’un des 4 séjours de 
 camping en Saskatchewan, incluant une carte cadeau de 150 $ valide pour 4 j
 ours dans un parc provincial !</p><p>&nbsp;</p>
DTSTAMP:20260423T205327
DTSTART;VALUE=DATE:20260409
DTEND;VALUE=DATE:20260410
SEQUENCE:0
TRANSP:OPAQUE
END:VEVENT
END:VCALENDAR